BEGIN:VCALENDAR
VERSION:2.0
PRODID:-//Constellations Familiales — Michel Diviné | Méthode Bert Hellinger - ECPv6.15.20//NONSGML v1.0//EN
CALSCALE:GREGORIAN
METHOD:PUBLISH
X-ORIGINAL-URL:https://constellation-familiale.eu
X-WR-CALDESC:Évènements pour Constellations Familiales — Michel Diviné | Méthode Bert Hellinger
REFRESH-INTERVAL;VALUE=DURATION:PT1H
X-Robots-Tag:noindex
X-PUBLISHED-TTL:PT1H
BEGIN:VTIMEZONE
TZID:Europe/Paris
BEGIN:DAYLIGHT
TZOFFSETFROM:+0100
TZOFFSETTO:+0200
TZNAME:CEST
DTSTART:20230326T010000
END:DAYLIGHT
BEGIN:STANDARD
TZOFFSETFROM:+0200
TZOFFSETTO:+0100
TZNAME:CET
DTSTART:20231029T010000
END:STANDARD
BEGIN:DAYLIGHT
TZOFFSETFROM:+0100
TZOFFSETTO:+0200
TZNAME:CEST
DTSTART:20240331T010000
END:DAYLIGHT
BEGIN:STANDARD
TZOFFSETFROM:+0200
TZOFFSETTO:+0100
TZNAME:CET
DTSTART:20241027T010000
END:STANDARD
BEGIN:DAYLIGHT
TZOFFSETFROM:+0100
TZOFFSETTO:+0200
TZNAME:CEST
DTSTART:20250330T010000
END:DAYLIGHT
BEGIN:STANDARD
TZOFFSETFROM:+0200
TZOFFSETTO:+0100
TZNAME:CET
DTSTART:20251026T010000
END:STANDARD
END:VTIMEZONE
BEGIN:VEVENT
DTSTART;TZID=Europe/Paris:20241110T090000
DTEND;TZID=Europe/Paris:20241110T170000
DTSTAMP:20260423T145737
CREATED:20230930T113550Z
LAST-MODIFIED:20240717T100202Z
UID:7899-1731229200-1731258000@constellation-familiale.eu
SUMMARY:Saint Nic
DESCRIPTION:Contactez Jacqueline Veler par mail ou au 07 88 52 50 14.
URL:https://constellation-familiale.eu/event/saint-nic/
LOCATION:Saint-Nic\, 20 Lieu-dit Kervengard\, 29550 Saint Nic\, Saint-Nic\, France
ORGANIZER;CN="Jacqueline Veler":MAILTO:michel.divine@free.fr
END:VEVENT
END:VCALENDAR