BEGIN:VCALENDAR
VERSION:2.0
PRODID:-//Constellations Familiales — Michel Diviné | Méthode Bert Hellinger - ECPv6.15.20//NONSGML v1.0//EN
CALSCALE:GREGORIAN
METHOD:PUBLISH
X-WR-CALNAME:Constellations Familiales — Michel Diviné | Méthode Bert Hellinger
X-ORIGINAL-URL:https://constellation-familiale.eu
X-WR-CALDESC:Évènements pour Constellations Familiales — Michel Diviné | Méthode Bert Hellinger
REFRESH-INTERVAL;VALUE=DURATION:PT1H
X-Robots-Tag:noindex
X-PUBLISHED-TTL:PT1H
BEGIN:VTIMEZONE
TZID:Europe/Paris
BEGIN:DAYLIGHT
TZOFFSETFROM:+0100
TZOFFSETTO:+0200
TZNAME:CEST
DTSTART:20240331T010000
END:DAYLIGHT
BEGIN:STANDARD
TZOFFSETFROM:+0200
TZOFFSETTO:+0100
TZNAME:CET
DTSTART:20241027T010000
END:STANDARD
BEGIN:DAYLIGHT
TZOFFSETFROM:+0100
TZOFFSETTO:+0200
TZNAME:CEST
DTSTART:20250330T010000
END:DAYLIGHT
BEGIN:STANDARD
TZOFFSETFROM:+0200
TZOFFSETTO:+0100
TZNAME:CET
DTSTART:20251026T010000
END:STANDARD
BEGIN:DAYLIGHT
TZOFFSETFROM:+0100
TZOFFSETTO:+0200
TZNAME:CEST
DTSTART:20260329T010000
END:DAYLIGHT
BEGIN:STANDARD
TZOFFSETFROM:+0200
TZOFFSETTO:+0100
TZNAME:CET
DTSTART:20261025T010000
END:STANDARD
END:VTIMEZONE
BEGIN:VEVENT
DTSTART;TZID=Europe/Paris:20251025T090000
DTEND;TZID=Europe/Paris:20251026T170000
DTSTAMP:20260421T025535
CREATED:20250519T073918Z
LAST-MODIFIED:20250801T085703Z
UID:8323-1761382800-1761498000@constellation-familiale.eu
SUMMARY:Constellations à Aubagne
DESCRIPTION:Valérie Lefèvre (vazenou@gmail.com) organise des constellations dans sa maison à eoures village dans le 11e à Marseille\, pas loin d’Aubagne. Son adresse est 81 chemin de la pageotte 3011 Marseille. \nLes dates prévues sont le samedi 25 octobre et le dimanche 26 et le prix est de 90 euros la journée\, de 9h30 à 17h30. Tout le monde passe et s’il reste du temps\, une formation en animation peut avoir lieu. \nVous pouvez venir en voiture ou en train. Aubagne est à 20 mn en train de la gare saint Charles et Valérie est prête à venir vous chercher à la gare d’Aubagne. \nVoici un lien sur Instagram
URL:https://constellation-familiale.eu/event/constellations-a-aubagne/
LOCATION:81 chemin de la pageotte  13011 Marseille\, 81 chemin de la pageotte\, Marseille\, 13011\, France
ORGANIZER;CN="Val%C3%A9rie Lef%C3%A8vre":MAILTO:vazenou@gmail.com
END:VEVENT
END:VCALENDAR