BEGIN:VCALENDAR
VERSION:2.0
PRODID:-//Constellations Familiales — Michel Diviné | Méthode Bert Hellinger - ECPv6.15.20//NONSGML v1.0//EN
CALSCALE:GREGORIAN
METHOD:PUBLISH
X-ORIGINAL-URL:https://constellation-familiale.eu
X-WR-CALDESC:Évènements pour Constellations Familiales — Michel Diviné | Méthode Bert Hellinger
REFRESH-INTERVAL;VALUE=DURATION:PT1H
X-Robots-Tag:noindex
X-PUBLISHED-TTL:PT1H
BEGIN:VTIMEZONE
TZID:Europe/Paris
BEGIN:DAYLIGHT
TZOFFSETFROM:+0100
TZOFFSETTO:+0200
TZNAME:CEST
DTSTART:20240331T010000
END:DAYLIGHT
BEGIN:STANDARD
TZOFFSETFROM:+0200
TZOFFSETTO:+0100
TZNAME:CET
DTSTART:20241027T010000
END:STANDARD
BEGIN:DAYLIGHT
TZOFFSETFROM:+0100
TZOFFSETTO:+0200
TZNAME:CEST
DTSTART:20250330T010000
END:DAYLIGHT
BEGIN:STANDARD
TZOFFSETFROM:+0200
TZOFFSETTO:+0100
TZNAME:CET
DTSTART:20251026T010000
END:STANDARD
BEGIN:DAYLIGHT
TZOFFSETFROM:+0100
TZOFFSETTO:+0200
TZNAME:CEST
DTSTART:20260329T010000
END:DAYLIGHT
BEGIN:STANDARD
TZOFFSETFROM:+0200
TZOFFSETTO:+0100
TZNAME:CET
DTSTART:20261025T010000
END:STANDARD
END:VTIMEZONE
BEGIN:VEVENT
DTSTART;TZID=Europe/Paris:20250810T100000
DTEND;TZID=Europe/Paris:20250810T180000
DTSTAMP:20260421T053754
CREATED:20241011T121134Z
LAST-MODIFIED:20250528T113632Z
UID:8219-1754820000-1754848800@constellation-familiale.eu
SUMMARY:Constellations à Langeac en Haute Loire
DESCRIPTION:Constellation familiale le dimanche 10 aout à la salle municipale de Langeac en Haute Loire. \nDe 10 heures à 18 heures environ \nInformations sur les tarifs et réservations au 0687754167 auprès de Eve Vincent
URL:https://constellation-familiale.eu/event/constellations-langeac/
LOCATION:Langeac\, France
ORGANIZER;CN="Eve Vincent":MAILTO:evevincent.therapy@gmail.com
END:VEVENT
END:VCALENDAR